BEGIN:VCALENDAR
VERSION:2.0
PRODID:-//eventon.com NONSGML v1.0//EN
BEGIN:VEVENT
UID:69e5e37652d25
DTSTAMP:20260420T092734
DTSTART:20231123T193000Z
DTEND:20231123T233000Z
TZID:Pacific/Midway
LOCATION:RG3 
SUMMARY:Corta-Mato Escolar HBG
DESCRIPTION: Corta-Mato Escolar HBG. Prova de velocidade e Lançamentos do peso/Vortex no complexo do RG3\,  entre as 8.30 e as 12.30. Com alunos representantes de todas as turmas do 5.º ao 9.º ano.
URL:https://hbg.pt/Eventos/corta-mato-escolar-hbg-2/
END:VEVENT
END:VCALENDAR