BEGIN:VCALENDAR
VERSION:2.0
PRODID:-//eventon.com NONSGML v1.0//EN
BEGIN:VEVENT
UID:69e5e64e3e4e1
DTSTAMP:20260420T093942
DTSTART:20231028T200000Z
DTEND:20231028T230000Z
TZID:Pacific/Midway
LOCATION:Pista de Câmara de Lobos 
SUMMARY:Megasprint 2023-2024
DESCRIPTION: No estádio de câmara de lobos dia 28 de outubro das 9:00 as 12:00 Corrida de velocidade\,  Lançamentos e Salto em comprimento.&nbsp;&nbsp;
URL:https://hbg.pt/Eventos/megasprint-2023-2024/
END:VEVENT
END:VCALENDAR