BEGIN:VCALENDAR
VERSION:2.0
PRODID:-//eventon.com NONSGML v1.0//EN
BEGIN:VEVENT
UID:69e607a759145
DTSTAMP:20260420T120159
DTSTART:20231026T013000Z
DTEND:20231026T043000Z
TZID:Pacific/Midway
LOCATION:
SUMMARY:Atividade Formativa " A Gestão Estratégica na promoção da cultura colaborativa e de um ambiente inclusivo na Escola”\, 
DESCRIPTION: Caríssimo(a) Colega\,  Com o propósito de prepararmos o novo ciclo de gestão\,  informamos que no próximo dia&nbsp;25 de outubro de 2023&nbsp;\,  através da plataforma Teams\,  terá início a Atividade Formativa&nbsp;&#8221; A Gestão Estratégica na promoção da cultura colaborativa e de um ambiente inclusivo na Escola”\,  cujo primeiro módulo estará focado[..]
URL:https://hbg.pt/Eventos/atividade-formativa-a-gestao-estrategica-na-promocao-da-cultura-colaborativa-e-de-um-ambiente-inclusivo-na-escola/
END:VEVENT
END:VCALENDAR