BEGIN:VCALENDAR
VERSION:2.0
PRODID:-//eventon.com NONSGML v1.0//EN
BEGIN:VEVENT
UID:69e5f6b34a177
DTSTAMP:20260420T104939
DTSTART:20231114T221400Z
DTEND:20231115T014500Z
TZID:Pacific/Midway
LOCATION:Escola HBG Estrada da liberdade\,  1\,  Funchal
SUMMARY:Simulacro A Terra Treme
DESCRIPTION: Procedimento &#8211; 14 de novembro – 11:14h e14:11h Exercício de abrigo e de evacuação   A Terra Treme! é um exercício organizado anualmente pela Autoridade Nacional deEmergência e Proteção Civil.   Ø Se estás no exterior\, segue asinstruções dos sinaleiros e encaminha-te para o Ponto de Encontro (Poli3).   Ø Se[..]
URL:https://hbg.pt/Eventos/simulacro-a-terra-treme/
END:VEVENT
END:VCALENDAR