BEGIN:VCALENDAR
VERSION:2.0
PRODID:-//eventon.com NONSGML v1.0//EN
BEGIN:VEVENT
UID:69e5e3623e262
DTSTAMP:20260420T092714
DTSTART:20231113T090000Z
DTEND:20231113T094500Z
TZID:Etc/Greenwich
LOCATION:
SUMMARY:Comemoração do Dia Nacional do Mar
DESCRIPTION: No âmbito das comemorações do&nbsp;“Dia Nacional do Mar”\, &nbsp;a Escola Azul da HBG irá dinamizar uma Ação&nbsp;de&nbsp;sensibilização&nbsp;orientada para a&nbsp;exploração e promoção dos ODS na escola. Este evento terá como oradores a Dr.ª Mónica Pereira e o Dr. Luís Filipe.
URL:https://hbg.pt/Eventos/comemoracao-do-dia-nacional-do-mar-3/
END:VEVENT
END:VCALENDAR