BEGIN:VCALENDAR
VERSION:2.0
PRODID:-//eventon.com NONSGML v1.0//EN
BEGIN:VEVENT
UID:69e5e36f3e093
DTSTAMP:20260420T092727
DTSTART:20231116T190000Z
DTEND:20231117T060000Z
TZID:Pacific/Midway
LOCATION:
SUMMARY:Dia Nacional do Mar/ Dia Internacional para a Tolerância
DESCRIPTION: No Dia Nacional do Mar comemora-se igualmente o Dia Internacional para a Tolerância. Como estamos a passar por momentos de grande incerteza\,  intolerância\,  guerra e extremismos os professores e alunos de algumas escolas azuis nacionais e regionais\, &nbsp; foram convidados a fazer uma onda coletiva onde cada criança/jovem escreve\,  numa pequena onda[..]
URL:https://hbg.pt/Eventos/dia-nacional-do-mar-dia-internacional-para-a-tolerancia/
END:VEVENT
END:VCALENDAR