BEGIN:VCALENDAR
VERSION:2.0
PRODID:-//eventon.com NONSGML v1.0//EN
BEGIN:VEVENT
UID:69e60a3cd35e6
DTSTAMP:20260420T121300
DTSTART:20231109T110000Z
DTEND:20240131T110000Z
TZID:Pacific/Midway
LOCATION:
SUMMARY:Concurso campanha "move 2024"
DESCRIPTION: Concurso campanha "move 2024"
URL:https://hbg.pt/Eventos/concurso-campanha-move-2024/
END:VEVENT
END:VCALENDAR