BEGIN:VCALENDAR
VERSION:2.0
PRODID:-//eventon.com NONSGML v1.0//EN
BEGIN:VEVENT
UID:69e609457674a
DTSTAMP:20260420T120853
DTSTART:20231115T213000Z
DTEND:20231115T230000Z
TZID:Pacific/Midway
LOCATION:
SUMMARY:Reunião com os Avaliadores Internos - Sessão A
DESCRIPTION: Reunião com os Avaliadores Internos para harmonizar procedimentos relativamente à apreciação do Projeto Docente. Sessão A – das 10:30h às 12h;Sessão B – das 14:30h às 16h.
URL:https://hbg.pt/Eventos/reuniao-com-os-avaliadores-internos/
END:VEVENT
END:VCALENDAR