BEGIN:VCALENDAR
VERSION:2.0
PRODID:-//eventon.com NONSGML v1.0//EN
BEGIN:VEVENT
UID:69e6097e104d7
DTSTAMP:20260420T120950
DTSTART:20231116T013000Z
DTEND:20231116T030000Z
TZID:Pacific/Midway
LOCATION:
SUMMARY:Reunião com os Avaliadores Internos - Sessão B
DESCRIPTION: Reunião com os Avaliadores Internos para harmonizar procedimentos relativamente à apreciação do Projeto Docente. Sessão A – das 10:30h às 12h;Sessão B – das 14:30h às 16h.
URL:https://hbg.pt/Eventos/reuniao-com-os-avaliadores-internos-sessao-b/
END:VEVENT
END:VCALENDAR