BEGIN:VCALENDAR
VERSION:2.0
PRODID:-//eventon.com NONSGML v1.0//EN
BEGIN:VEVENT
UID:69e6098f127c0
DTSTAMP:20260420T121007
DTSTART:20231113T200000Z
DTEND:20231117T050000Z
TZID:Pacific/Midway
LOCATION:
SUMMARY:34 anos da Convenção sobre os Direitos da Criança por parte das Nações Unidas.
DESCRIPTION: Entre o dia 13 e a próxima quinta-feira\,  dia 16 de novembro\,  a Praça do Município será o palco da exposição &#8220;Estendal dos Direitos&#8220;\,  uma campanha promovida pela Comissão Nacional de Promoção dos Direitos e Proteção das Crianças e Jovens (CNPDPCJ) para assinalar os 34 anos da Convenção sobre os[..]
URL:https://hbg.pt/Eventos/34-anos-da-convencao-sobre-os-direitos-da-crianca-por-parte-das-nacoes-unidas/
END:VEVENT
END:VCALENDAR