BEGIN:VCALENDAR
VERSION:2.0
PRODID:-//eventon.com NONSGML v1.0//EN
BEGIN:VEVENT
UID:69e60a0941796
DTSTAMP:20260420T121209
DTSTART:20231123T224500Z
DTEND:20231124T001500Z
TZID:Pacific/Midway
LOCATION:
SUMMARY:Tertúlia - Utilização dos telemóveis na escola\,  sim ou não?
DESCRIPTION: No próximo dia 23 de novembro decorrerá na nossa escola uma Tertúlia para debater o tema &#8220;Utilização dos telemóveis na escola\,  sim ou não?&#8221;.
URL:https://hbg.pt/Eventos/tertulia-utilizacao-dos-telemoveis-na-escola-sim-ou-nao/
END:VEVENT
END:VCALENDAR