BEGIN:VCALENDAR
VERSION:2.0
PRODID:-//eventon.com NONSGML v1.0//EN
BEGIN:VEVENT
UID:69e5f5de1cb2e
DTSTAMP:20260420T104606
DTSTART:20231127T123000Z
DTEND:20231127T140000Z
TZID:Etc/Greenwich
LOCATION:Instalações Desportivas HBG 
SUMMARY:Prova dos Nove 9.º ano
DESCRIPTION: Prova dos Nove 9.º ano
URL:https://hbg.pt/Eventos/prova-dos-nove-9-o-ano/
END:VEVENT
END:VCALENDAR