BEGIN:VCALENDAR
VERSION:2.0
PRODID:-//eventon.com NONSGML v1.0//EN
BEGIN:VEVENT
UID:69e5e36353e3b
DTSTAMP:20260420T092715
DTSTART:20231127T200000Z
DTEND:20231128T000000Z
TZID:Pacific/Midway
LOCATION:
SUMMARY:Tiro com arco
DESCRIPTION: Tiro com arco
URL:https://hbg.pt/Eventos/tiro-com-arco/
END:VEVENT
END:VCALENDAR