BEGIN:VCALENDAR
VERSION:2.0
PRODID:-//eventon.com NONSGML v1.0//EN
BEGIN:VEVENT
UID:69e60a4ba44d4
DTSTAMP:20260420T121315
DTSTART:20231120T110000Z
DTEND:20231125T105900Z
TZID:Pacific/Midway
LOCATION:Piso 1 - Edifício Escola Dr. Horácio Bento de Gouveia 
SUMMARY:Feira dos minerais\,  rochas e fósseis
DESCRIPTION: Visita a exposição! Nela podes encontrar variedade e aplicação dos elementos geológicos que o nosso planeta oferece!
URL:https://hbg.pt/Eventos/feira-dos-minerais-rochas-e-fosseis/
END:VEVENT
END:VCALENDAR