BEGIN:VCALENDAR
VERSION:2.0
PRODID:-//eventon.com NONSGML v1.0//EN
BEGIN:VEVENT
UID:69e5e302b4311
DTSTAMP:20260420T092538
DTSTART:20231204T191500Z
DTEND:20231208T053000Z
TZID:Pacific/Midway
LOCATION:
SUMMARY:Semana do Desporto Adaptado
DESCRIPTION: Semana do Desporto Adaptado
URL:https://hbg.pt/Eventos/semana-do-desporto-adaptado-2/
END:VEVENT
END:VCALENDAR