BEGIN:VCALENDAR
VERSION:2.0
PRODID:-//eventon.com NONSGML v1.0//EN
BEGIN:VEVENT
UID:69e608bab8c1c
DTSTAMP:20260420T120634
DTSTART:20240105T214500Z
DTEND:20240105T230000Z
TZID:Pacific/Midway
LOCATION:
SUMMARY:“Liga-te! – Torna o teu Natal + Inclusivo”- Cantar dos Reis - Grupo 240
DESCRIPTION: Nas atividades alusivas ao tema “Liga-te! – Torna o teu Natal Inclusivo”\,  os professores de artes do 2º ciclo\,  pretendem assinalar o Dia de Reis\,  no espaço perto da sua instalação. Esta atividade conta com a presença dos utentes do estabelecimento de Santa Isabel e com duas turmas de segundo[..]
URL:https://hbg.pt/Eventos/liga-te-torna-o-teu-natal-inclusivo-cantar-dos-reis-grupo-240/
END:VEVENT
END:VCALENDAR