BEGIN:VCALENDAR
VERSION:2.0
PRODID:-//eventon.com NONSGML v1.0//EN
BEGIN:VEVENT
UID:69e5e2f803e1f
DTSTAMP:20260420T092528
DTSTART:20231205T110000Z
DTEND:20240117T050000Z
TZID:Pacific/Midway
LOCATION:
SUMMARY:"Liga-te! - Torna o teu Natal + Inclusivo"
DESCRIPTION: A instalação artística “Liga-te! Torna o teu Natal inclusivo” é um apelo para estarmos mais atentos\,  repensar as nossas ações e gestos nesta época natalícia. Esta instalação resulta da reflexão efetuada pelos nossos alunos em torno desta temática\,  além de promover a importância da participação cívica na promoção de mudança[..]
URL:https://hbg.pt/Eventos/liga-te-torna-o-teu-natal-inclusivo/
END:VEVENT
END:VCALENDAR