BEGIN:VCALENDAR
VERSION:2.0
PRODID:-//eventon.com NONSGML v1.0//EN
BEGIN:VEVENT
UID:69e5f67c9e92a
DTSTAMP:20260420T104844
DTSTART:20240119T233000Z
DTEND:20240120T011500Z
TZID:Pacific/Midway
LOCATION:Instalações Desportivas HBG 
SUMMARY:Prova dos Nove 8.º ano
DESCRIPTION: Prova dos Nove 8.º ano
URL:https://hbg.pt/Eventos/prova-dos-nove-8-o-ano/
END:VEVENT
END:VCALENDAR