BEGIN:VCALENDAR
VERSION:2.0
PRODID:-//eventon.com NONSGML v1.0//EN
BEGIN:VEVENT
UID:69e60a093e185
DTSTAMP:20260420T121209
DTSTART:20240119T233000Z
DTEND:20240120T010000Z
TZID:Pacific/Midway
LOCATION:
SUMMARY:Orientação Rodoviária
DESCRIPTION: Atividade inserida no Plano de Atividades do PRER da Secretaria Regional de Edu
URL:https://hbg.pt/Eventos/orientacao-rodoviaria-3/
END:VEVENT
END:VCALENDAR