BEGIN:VCALENDAR
VERSION:2.0
PRODID:-//eventon.com NONSGML v1.0//EN
BEGIN:VEVENT
UID:69e60bb370ffe
DTSTAMP:20260420T121915
DTSTART:20240123T110000Z
DTEND:20240125T105900Z
TZID:Pacific/Midway
LOCATION:
SUMMARY:Avaliação de indicadores de saúde
DESCRIPTION: Avaliação de indicadores de saúde
URL:https://hbg.pt/Eventos/angela-de-ornelas-matias-lopes/
END:VEVENT
END:VCALENDAR