BEGIN:VCALENDAR
VERSION:2.0
PRODID:-//eventon.com NONSGML v1.0//EN
BEGIN:VEVENT
UID:69e5f68f0828c
DTSTAMP:20260420T104903
DTSTART:20240201T110000Z
DTEND:20240210T110000Z
TZID:Pacific/Midway
LOCATION:
SUMMARY:Participação de alunos num espetáculo no TMBD
DESCRIPTION: https://www.dnoticias.pt/2024/1/17/390462-espectaculo-da-irene-com-amor-integra-alunos/?fbclid=IwAR0wUGxdnFoRnPrlWznuHrW-mXs2Co_IG-OJlaR5wUxIG7S52BpBuoD8oas
URL:https://hbg.pt/Eventos/participacao-de-alunos-num-espetaculo-no-tmbd/
END:VEVENT
END:VCALENDAR