BEGIN:VCALENDAR
VERSION:2.0
PRODID:-//eventon.com NONSGML v1.0//EN
BEGIN:VEVENT
UID:69e5ed4257d76
DTSTAMP:20260420T100922
DTSTART:20240513T110000Z
DTEND:20240524T110000Z
TZID:Pacific/Midway
LOCATION:
SUMMARY:Instalação Artes - 2º Ciclo
DESCRIPTION: Tema: &#8221; Sou livre\,  logo registo&#8221;; Local: 1º Piso do edifico principal da HBG
URL:https://hbg.pt/Eventos/instalacao-artes-2o-ciclo/
END:VEVENT
END:VCALENDAR