BEGIN:VCALENDAR
VERSION:2.0
PRODID:-//eventon.com NONSGML v1.0//EN
BEGIN:VEVENT
UID:69e60bb1e9327
DTSTAMP:20260420T121913
DTSTART:20240424T110000Z
DTEND:20240425T105900Z
TZID:Pacific/Midway
LOCATION:
SUMMARY:Gincana Cultural - 50 anos na Estrada da Liberdade…
DESCRIPTION: A Gincana Cultural &#8211; 50 anos na Estrada da Liberdade… No próximo dia 24 de abril decorrerá a edição deste ano da Gincana Cultural. Este ano dedicada ao tema geral da liberdade. Fala com os teus colegas e inscreve-te. Não faltes a um dia divertido!
URL:https://hbg.pt/Eventos/gincana-cultural-50-anos-na-estrada-da-liberdade/
END:VEVENT
END:VCALENDAR