BEGIN:VCALENDAR
VERSION:2.0
PRODID:-//eventon.com NONSGML v1.0//EN
BEGIN:VEVENT
UID:69e60a04c19c4
DTSTAMP:20260420T121204
DTSTART:20240126T191500Z
DTEND:20240126T204500Z
TZID:Pacific/Midway
LOCATION:
SUMMARY:"Entre Linhas e Cores: Desvendando o Diário Gráfico"
DESCRIPTION: Palestra sobre o diário gráfico\,   numa abordagem breve sobre os seguintes tópicos : o Introdução à história do diário gráfico; o Exploração teórico-prática do conceito do diário gráfico; o Desenvolvendo o valor do diário gráfico.  A palestra será dinamizada pela estudante de História de Arte\,  na Faculdade de Ciências Sociais[..]
URL:https://hbg.pt/Eventos/entre-linhas-e-cores-desvendando-o-diario-grafico/
END:VEVENT
END:VCALENDAR