BEGIN:VCALENDAR
VERSION:2.0
PRODID:-//eventon.com NONSGML v1.0//EN
BEGIN:VEVENT
UID:69e60903d5917
DTSTAMP:20260420T120747
DTSTART:20240207T100000Z
DTEND:20240207T113000Z
TZID:Etc/Greenwich
LOCATION:
SUMMARY:Palestra sobre os Tectos Mudéjares da Sé do Funchal
DESCRIPTION: Breve abordagem histórica /artística sobre os tectos da Sé\,  dinamizada pela aluna da Faculdade de Ciências Sociais e Humanas da Universidade Nova de Lisboa\,  Margarida Gonçalves
URL:https://hbg.pt/Eventos/palestra-sobre-os-tectos-mudejares-da-se-do-funchal/
END:VEVENT
END:VCALENDAR