BEGIN:VCALENDAR
VERSION:2.0
PRODID:-//eventon.com NONSGML v1.0//EN
BEGIN:VEVENT
UID:69e5e369ccfe4
DTSTAMP:20260420T092721
DTSTART:20240228T233000Z
DTEND:20240229T011500Z
TZID:Pacific/Midway
LOCATION:Instalações Desportivas HBG 
SUMMARY:Prova dos Nove 6.º ano
DESCRIPTION: Desporto Escolar Prova dos Nove – 6.ºano No dia 28 de fevereiro (4ªfeira) acontece mais uma Prova dos Nove para as turmas de 6ºano. A atividade realiza-se nas instalações desportivas da escola entre as 12:30 – 14:15.
URL:https://hbg.pt/Eventos/prova-dos-nove-6-o-ano/
END:VEVENT
END:VCALENDAR