BEGIN:VCALENDAR
VERSION:2.0
PRODID:-//eventon.com NONSGML v1.0//EN
BEGIN:VEVENT
UID:69e60a3cb9a0a
DTSTAMP:20260420T121300
DTSTART:20240228T110000Z
DTEND:20240229T105900Z
TZID:Pacific/Midway
LOCATION:
SUMMARY:Orientação rodoviária
DESCRIPTION: Atividade inserida no Plano de Atividades do PRER da Secretaria Regional de Educação\,  Ciência e Tecnologia.
URL:https://hbg.pt/Eventos/orientacao-rodoviaria-4/
END:VEVENT
END:VCALENDAR