BEGIN:VCALENDAR
VERSION:2.0
PRODID:-//eventon.com NONSGML v1.0//EN
BEGIN:VEVENT
UID:69e5f721d9221
DTSTAMP:20260420T105129
DTSTART:20240211T200000Z
DTEND:20240213T050000Z
TZID:Pacific/Midway
LOCATION:Praça do povo 
SUMMARY:Basquetebol na Cidade (Torneio 3x3)
DESCRIPTION: Nos dias 11 e 12 de março decorre o torneio escolar basquetebol 3&#215;3.&nbsp; A praça do povo recebe este evento com muita dinâmica e competitividade.&nbsp;
URL:https://hbg.pt/Eventos/basquetebol-na-cidade-torneio-3x3/
END:VEVENT
END:VCALENDAR