BEGIN:VCALENDAR
VERSION:2.0
PRODID:-//eventon.com NONSGML v1.0//EN
BEGIN:VEVENT
UID:69e5e36a8b79a
DTSTAMP:20260420T092722
DTSTART:20240304T214500Z
DTEND:20240304T223000Z
TZID:Pacific/Midway
LOCATION:
SUMMARY:PREVENÇÃO DA OBESIDADE: da alimentação ao exercício físico
DESCRIPTION: PREVENÇÃO DA OBESIDADE: da alimentação ao exercício físico
URL:https://hbg.pt/Eventos/prevencao-da-obesidade-da-alimentacao-ao-exercicio-fisico/
END:VEVENT
END:VCALENDAR