BEGIN:VCALENDAR
VERSION:2.0
PRODID:-//eventon.com NONSGML v1.0//EN
BEGIN:VEVENT
UID:69e5f68a05a4f
DTSTAMP:20260420T104858
DTSTART:20240307T210000Z
DTEND:20240307T230000Z
TZID:Pacific/Midway
LOCATION:
SUMMARY:Taça Escolar Rodoviária
DESCRIPTION: Atividade inserida no Plano de Atividades do PRER\,  da Secretaria Regional de Educação\,  Ciência e Tecnologia.
URL:https://hbg.pt/Eventos/taca-escolar-rodoviaria-2/
END:VEVENT
END:VCALENDAR