BEGIN:VCALENDAR
VERSION:2.0
PRODID:-//eventon.com NONSGML v1.0//EN
BEGIN:VEVENT
UID:69e5e37184d96
DTSTAMP:20260420T092729
DTSTART:20240227T200000Z
DTEND:20240601T053000Z
TZID:Pacific/Midway
LOCATION:
SUMMARY:Desafio - "Sou Eco"
DESCRIPTION: Temos um&nbsp; desafio para ti! O EcoHBG tenta\,  sempre\,  que a comunidade adquira&nbsp; uma consciência ambiental! Desta vez\,  desenvolvemos uma fita com uma frase que apela à reflexão relativamente às atitudes que praticamos em relação ao ambiente e relançamos a garrafa &#8220;Sou Eco&#8221;. O desafio consiste em que todos os[..]
URL:https://hbg.pt/Eventos/desafio-sou-eco/
END:VEVENT
END:VCALENDAR