BEGIN:VCALENDAR
VERSION:2.0
PRODID:-//eventon.com NONSGML v1.0//EN
BEGIN:VEVENT
UID:69e6086de6f91
DTSTAMP:20260420T120517
DTSTART:20240302T021500Z
DTEND:20240302T030000Z
TZID:Pacific/Midway
LOCATION:Auditório - HBG 
SUMMARY:Sensibilização 1- Educação Rodoviária
DESCRIPTION: O projeto ESPR pretende sensibilizar a comunidade educativa para a Educação Rodoviária\,  para a adoção de comportamentos seguros enquanto peões\,  passageiros e condutores\,  respeitando as regras da segurança rodoviária e sinais de transito. O técnico preletor será o professor David Fazendeiro&nbsp;da DRE (PRER)\,  entidade parceira do projeto.
URL:https://hbg.pt/Eventos/sensibilizacao-1-educacao-rodoviaria/
END:VEVENT
END:VCALENDAR