BEGIN:VCALENDAR
VERSION:2.0
PRODID:-//eventon.com NONSGML v1.0//EN
BEGIN:VEVENT
UID:69e5f6388739a
DTSTAMP:20260420T104736
DTSTART:20240307T233000Z
DTEND:20240308T001500Z
TZID:Pacific/Midway
LOCATION:Auditório - HBG 
SUMMARY:Sensibilização 2- Educação Rodoviária
DESCRIPTION: O projeto ESPR pretende sensibilizar a comunidade educativa para a Educação Rodoviária\,  para a adoção de comportamentos seguros enquanto peões\,  passageiros e condutores\,  respeitando as regras da segurança rodoviária e sinais de transito. O técnico preletor será o professor Nélson Relva&nbsp;da DRE (PRER)\,  entidade parceira do projeto.
URL:https://hbg.pt/Eventos/sensibilizacao-2-educacao-rodoviaria/
END:VEVENT
END:VCALENDAR