BEGIN:VCALENDAR
VERSION:2.0
PRODID:-//eventon.com NONSGML v1.0//EN
BEGIN:VEVENT
UID:69e609cbb85de
DTSTAMP:20260420T121107
DTSTART:20240304T100000Z
DTEND:20240304T183000Z
TZID:Etc/Greenwich
LOCATION:Núcleo Desportivo Oeste Estrada da Liberdade\,  1 9004-524 FUNCHAL
SUMMARY:Eu Sei Proteger!
DESCRIPTION: Pretende-se comunicar à população escolar as medidas de autoproteção que devem ser tomadas em diversas situações de risco e promover uma cultura de segurança. Atividade a realizar com o projeto ESPR a cargo do responsável do projeto\, &nbsp;João Lourenço\,  do&nbsp;Gabinete de Comunicação e Sensibilização&nbsp;da&nbsp;Escola de Formação em Proteção Civil e Bombeiros.
URL:https://hbg.pt/Eventos/eu-sei-proteger-2/
END:VEVENT
END:VCALENDAR