BEGIN:VCALENDAR
VERSION:2.0
PRODID:-//eventon.com NONSGML v1.0//EN
BEGIN:VEVENT
UID:69e6098eda374
DTSTAMP:20260420T121006
DTSTART:20240301T200000Z
DTEND:20240320T000000Z
TZID:Pacific/Midway
LOCATION:
SUMMARY:Inscrição no Peddy Paper Digital HBG - 3º Ciclo
DESCRIPTION: É com grande satisfação que anunciamos o evento Peddy Paper Digital HBG\,  organizado pelo Grupo 550 &#8211; Informática. Esta atividade emocionante e educativa terá lugar no penúltimo dia de aulas\,  dia 21 de março de 2024\,  das 11:45 às 13:15. O Peddy Paper Digital proporciona uma oportunidade única para exercitar[..]
URL:https://hbg.pt/Eventos/inscricao-no-peddy-paper-digital-hbg-3o-ciclo/
END:VEVENT
END:VCALENDAR