BEGIN:VCALENDAR
VERSION:2.0
PRODID:-//eventon.com NONSGML v1.0//EN
BEGIN:VEVENT
UID:69e5e5ead57bd
DTSTAMP:20260420T093802
DTSTART:20240318T191500Z
DTEND:20240323T053000Z
TZID:Pacific/Midway
LOCATION:
SUMMARY:SEMANA DA MATEMÁTICA
DESCRIPTION: Semana da Matemática &#8211; Brincando com a Matemática 18 a 22 de março
URL:https://hbg.pt/Eventos/semana-da-matematica-2/
END:VEVENT
END:VCALENDAR