BEGIN:VCALENDAR
VERSION:2.0
PRODID:-//eventon.com NONSGML v1.0//EN
BEGIN:VEVENT
UID:69e5e375cdfa0
DTSTAMP:20260420T092733
DTSTART:20240313T203000Z
DTEND:20240314T040000Z
TZID:Pacific/Midway
LOCATION:
SUMMARY:Avaliação da Pressão Arterial e da Glicémia
DESCRIPTION: Avaliação da Pressão Arterial e da Glicémia
URL:https://hbg.pt/Eventos/avaliacao-da-pressao-arterial-e-da-glicemia/
END:VEVENT
END:VCALENDAR