BEGIN:VCALENDAR
VERSION:2.0
PRODID:-//eventon.com NONSGML v1.0//EN
BEGIN:VEVENT
UID:69e5f641e9e36
DTSTAMP:20260420T104745
DTSTART:20240416T233000Z
DTEND:20240417T013000Z
TZID:Pacific/Midway
LOCATION:Instalações Desportivas HBG 
SUMMARY:Finais de Futsal
DESCRIPTION: Dia 16 de Abril ocorrem as finais de Futsal do 5.º ao 9. ano.&nbsp;
URL:https://hbg.pt/Eventos/finais-de-futsal/
END:VEVENT
END:VCALENDAR