BEGIN:VCALENDAR
VERSION:2.0
PRODID:-//eventon.com NONSGML v1.0//EN
BEGIN:VEVENT
UID:69e608b5892c1
DTSTAMP:20260420T120629
DTSTART:20240312T110000Z
DTEND:20240322T110000Z
TZID:Pacific/Midway
LOCATION:
SUMMARY:Francophonie - Le Français\,  c'est ma langue!
DESCRIPTION: Está a decorrer\,  desde o dia 12 de março\,  a chamada &#8220;Semana da Francofonia&#8221;! Várias atividades\,  ligadas à Francofonia\,  têm sido desenvolvidas em algumas turmas de 9º ano.
URL:https://hbg.pt/Eventos/francophonie-le-francais-cest-ma-langue/
END:VEVENT
END:VCALENDAR