BEGIN:VCALENDAR
VERSION:2.0
PRODID:-//eventon.com NONSGML v1.0//EN
BEGIN:VEVENT
UID:69e5e30a6d844
DTSTAMP:20260420T092546
DTSTART:20240520T200000Z
DTEND:20240525T050000Z
TZID:Pacific/Midway
LOCATION:
SUMMARY:Festa do Desporto Escolar 2023/2024
DESCRIPTION: Decorre entre os dias 20 e 24 de maio a Festa do Desporto Escolar 2023/2024 nas modalidades de Atletismo\,  Basquetebol\,  Futsal\,  Patinagem\,  Tenis de mesa\,  AMA\,  Badminton\,  Voleibol e Actividades Náuticas&nbsp;
URL:https://hbg.pt/Eventos/festa-do-desporto-escolar-2023-2024-2/
END:VEVENT
END:VCALENDAR