BEGIN:VCALENDAR
VERSION:2.0
PRODID:-//eventon.com NONSGML v1.0//EN
BEGIN:VEVENT
UID:69e618320e9a8
DTSTAMP:20260420T131234
DTSTART:20240321T224500Z
DTEND:20240322T003000Z
TZID:Pacific/Midway
LOCATION:
SUMMARY:Peddy Paper Digital
DESCRIPTION: Visitie a página do evento. Grelha dos postos_equipasDescarregar
URL:https://hbg.pt/Eventos/peddy-paper-digital/
END:VEVENT
END:VCALENDAR