BEGIN:VCALENDAR
VERSION:2.0
PRODID:-//eventon.com NONSGML v1.0//EN
BEGIN:VEVENT
UID:69e6086e09676
DTSTAMP:20260420T120518
DTSTART:20240415T200000Z
DTEND:20240419T050000Z
TZID:Pacific/Midway
LOCATION:
SUMMARY:Semana de Orientação Vocacional
DESCRIPTION: O Serviço de Psicologia e Orientação da HBG irá dinamizar a Semana de Orientação Vocacional\,  dirigida aos alunos de 9º ano. Este evento conta com um conjunto de atividades\,  a decorrer durante toda a semana\, &nbsp;que têm por objetivo a partilha de informações\,  úteis e facilitadoras para uma escolha responsável e[..]
URL:https://hbg.pt/Eventos/semana-de-orientacao-vocacional/
END:VEVENT
END:VCALENDAR