BEGIN:VCALENDAR
VERSION:2.0
PRODID:-//eventon.com NONSGML v1.0//EN
BEGIN:VEVENT
UID:69e5e374b448f
DTSTAMP:20260420T092732
DTSTART:20240422T213000Z
DTEND:20240423T000000Z
TZID:Pacific/Midway
LOCATION:
SUMMARY:Campanha do Laço Azul - Caminhada
DESCRIPTION: No dia 22 de abril (segunda-feira)\,  entre as 10h30 e as 13h00\,  a escola associar-se-á à Campanha Laço Azul (um desafio da CPCJ)\,  promovendo uma caminhada  até ao Largo do Colégio. Participarão alunos\,  professores e encarregados de educação. 
URL:https://hbg.pt/Eventos/campanha-do-laco-azul-caminhada/
END:VEVENT
END:VCALENDAR