BEGIN:VCALENDAR
VERSION:2.0
PRODID:-//eventon.com NONSGML v1.0//EN
BEGIN:VEVENT
UID:69e5f63d13558
DTSTAMP:20260420T104741
DTSTART:20240420T053000Z
DTEND:20240420T073000Z
TZID:Pacific/Midway
LOCATION:Auditório - HBG 
SUMMARY:X Concurso de Talentos HBG
DESCRIPTION: Final do Concurso&nbsp;
URL:https://hbg.pt/Eventos/x-concurso-de-talentos-hbg/
END:VEVENT
END:VCALENDAR