BEGIN:VCALENDAR
VERSION:2.0
PRODID:-//eventon.com NONSGML v1.0//EN
BEGIN:VEVENT
UID:69e60ae5725fd
DTSTAMP:20260420T121549
DTSTART:20240502T210000Z
DTEND:20240502T223000Z
TZID:Pacific/Midway
LOCATION:Auditório - HBG 
SUMMARY:Palestra: “Elementos Químicos à Mesa - Tabela Periódica”
DESCRIPTION: No próximo&nbsp;dia 02 de maio\,  5ªfeira\,  realizar-se-á uma palestra subordinada ao tema: “Elementos Químicos à Mesa &#8211; Tabela Periódica”\,  organizada pelo grupo de Físico-Química\,  sendo o orador o Professor José Câmara do Centro de Química da Madeira. Esta atividade está integrada no plano de ação da iniciativa e terá como[..]
URL:https://hbg.pt/Eventos/palestra-elementos-quimicos-a-mesa-tabela-periodica/
END:VEVENT
END:VCALENDAR