BEGIN:VCALENDAR
VERSION:2.0
PRODID:-//eventon.com NONSGML v1.0//EN
BEGIN:VEVENT
UID:69e60bb228bb2
DTSTAMP:20260420T121914
DTSTART:20240515T210000Z
DTEND:20240531T110000Z
TZID:Pacific/Midway
LOCATION:
SUMMARY:Inscrição - Peddy Paper  "Ciência em Ação"
DESCRIPTION: Consulta o cartaz e inscreve-te usando o QR. Se tiveres dúvidas fala com o teu professor.
URL:https://hbg.pt/Eventos/inscricao-peddy-paper-ciencia-em-acao/
END:VEVENT
END:VCALENDAR