BEGIN:VCALENDAR
VERSION:2.0
PRODID:-//eventon.com NONSGML v1.0//EN
BEGIN:VEVENT
UID:69e5e5eae8afe
DTSTAMP:20260420T093802
DTSTART:20240517T183900Z
DTEND:20240607T105900Z
TZID:Pacific/Midway
LOCATION:
SUMMARY:Inscrições VII Concurso Scratch
DESCRIPTION: Estão abertas as inscrições para o concurso de programação em Scratch. Inscreve-te até ao dia 6 de junho Formulário de Inscrições
URL:https://hbg.pt/Eventos/inscricoes-vii-concurso-scratch/
END:VEVENT
END:VCALENDAR