BEGIN:VCALENDAR
VERSION:2.0
PRODID:-//eventon.com NONSGML v1.0//EN
BEGIN:VEVENT
UID:69e6091309a77
DTSTAMP:20260420T120803
DTSTART:20240605T203000Z
DTEND:20240606T000000Z
TZID:Pacific/Midway
LOCATION:Instalações Desportivas HBG 
SUMMARY:Festa de Encerramento do Desporto Escolar HBG
DESCRIPTION: Festa de Encerramento do Desporto Escolar HBG.&nbsp;
URL:https://hbg.pt/Eventos/festa-de-encerramento-do-desporto-escolar-hbg/
END:VEVENT
END:VCALENDAR