BEGIN:VCALENDAR
VERSION:2.0
PRODID:-//eventon.com NONSGML v1.0//EN
BEGIN:VEVENT
UID:69e5e3639dc5a
DTSTAMP:20260420T092715
DTSTART:20240527T190000Z
DTEND:20240601T053000Z
TZID:Pacific/Midway
LOCATION:Poli 3 - Ponto de encontro 
SUMMARY:Simulacro/Exercício interno de evacuação
DESCRIPTION: Simulacro/Exercício interno de evacuação geral da escola\,  do edifício principal e dos restantes edifícios escolares. O projeto ESPR apela a atitudes assertivas por todos os elementos da comunidade educativa\,  de modo a incutir a cultura de segurança. poderá ter o acompanhamento do simulacro por um observador do Serviço Regional de[..]
URL:https://hbg.pt/Eventos/simulacro-exercicio-interno-de-evacuacao/
END:VEVENT
END:VCALENDAR