BEGIN:VCALENDAR
VERSION:2.0
PRODID:-//eventon.com NONSGML v1.0//EN
BEGIN:VEVENT
UID:69e60a040f3b2
DTSTAMP:20260420T121204
DTSTART:20240605T040000Z
DTEND:20240617T230000Z
TZID:Pacific/Midway
LOCATION:Avenida Arriaga 32°38'51.1
SUMMARY:Semana Regional das Artes 2024
DESCRIPTION: A Exposição Regional de Expressão Plástica decorre anualmente no mês de junho no âmbito da Semana Regional das Artes (SRA). Este evento é organizado pela  Secretaria Regional de Educação\,  Ciência e Tecnologia e pela Direção Regional de Educação da Madeira\,  através da Direção de Serviços de Educação Artística\,  esta celebração decorre[..]
URL:https://hbg.pt/Eventos/semana-regional-das-artes-2024/
END:VEVENT
END:VCALENDAR